BEGIN:VCALENDAR
VERSION:2.0
PRODID:-//PCEFT - ECPv6.15.16.1//NONSGML v1.0//EN
CALSCALE:GREGORIAN
METHOD:PUBLISH
X-WR-CALNAME:PCEFT
X-ORIGINAL-URL:https://www.philadelphiacenterforeft.org
X-WR-CALDESC:Events for PCEFT
REFRESH-INTERVAL;VALUE=DURATION:PT1H
X-Robots-Tag:noindex
X-PUBLISHED-TTL:PT1H
BEGIN:VTIMEZONE
TZID:America/New_York
BEGIN:DAYLIGHT
TZOFFSETFROM:-0500
TZOFFSETTO:-0400
TZNAME:EDT
DTSTART:20250309T070000
END:DAYLIGHT
BEGIN:STANDARD
TZOFFSETFROM:-0400
TZOFFSETTO:-0500
TZNAME:EST
DTSTART:20251102T060000
END:STANDARD
BEGIN:DAYLIGHT
TZOFFSETFROM:-0500
TZOFFSETTO:-0400
TZNAME:EDT
DTSTART:20260308T070000
END:DAYLIGHT
BEGIN:STANDARD
TZOFFSETFROM:-0400
TZOFFSETTO:-0500
TZNAME:EST
DTSTART:20261101T060000
END:STANDARD
BEGIN:DAYLIGHT
TZOFFSETFROM:-0500
TZOFFSETTO:-0400
TZNAME:EDT
DTSTART:20270314T070000
END:DAYLIGHT
BEGIN:STANDARD
TZOFFSETFROM:-0400
TZOFFSETTO:-0500
TZNAME:EST
DTSTART:20271107T060000
END:STANDARD
END:VTIMEZONE
BEGIN:VEVENT
DTSTART;TZID=America/New_York:20260424T090000
DTEND;TZID=America/New_York:20260425T163000
DTSTAMP:20260423T075128
CREATED:20260115T045446Z
LAST-MODIFIED:20260406T200231Z
UID:2799-1777021200-1777134600@www.philadelphiacenterforeft.org
SUMMARY:Breaking Up but Still Connecting: An EFT Approach to Healthier Breakups
DESCRIPTION:Not all couples who come to therapy want to save or fix their relationships. More importantly\, breakups do not have to be traumatizing or detrimental; it also does not have to become the biggest failure in life. As couple therapists\, we need to be able to help these couples break up with compassion\, appreciation\, dignity\, clarity\, and self-worth as they move through this painful and scary process. \nThis workshop will focus on two challenging issues in couple therapy: (1) how to help couples who are indecisive or with different goals whereas one wants to end and the other wants to save the relationship; (2) how to help couples go through three stages of EFT to end the relationship while maintaining some levels of connection. Methods of presentation will include didactic teaching\, experiential exercise\, video demonstration and discussion.’ \nRegistration fees:\n$600- full fee (after 4/10/26)\n$575- early bird (before 4/10/26)\n$550- CMH clinician\, equity\, student\n$517- PCEFT member rate \nCEUs:\n12\n \nDates: \nApril 24-25\, 2026 \nTime:\n9 AM – 4:30 PM (Eastern) \nLocation:\nThe Retreat at St. Thomas (7020 Camp Hill Rd.\, Fort Washington\, PA 19034) \nCancelation policy: \nIf notified in writing of canceling by 4/1/2026\, the fee will be refunded minus $50 administrative fee. The fee is non-refundable after 4/1/2026. \nCEU Provider\nPhoenix Center for Experiential Trauma Therapy (Lic. #004115) is approved by the Pennsylvania State Board of Social Workers\, Marriage and Family Therapists and Professional Counselors to offer continuing education for social workers\, marriage and family therapists and professional counselors. The Phoenix Center for Experiential Trauma Therapy (Lic. # PSY000215) is approved by the Pennsylvania State Board of Psychology to offer continuing education for psychologists. Phoenix Center for Experiential Trauma Therapy maintains responsibility for the program. \n  \n\n\n                \n\n                        \n                            Breaking Up but Still Connecting: An EFT Approach to Healthier Breakups\n                             \n							"*" indicates required fields \n                        \n                        InstagramThis field is for validation purposes and should be left unchanged.Name*\n                            \n                            \n                                                    \n                                                    First\n                                                \n                            \n                            \n                                                    \n                                                    Last\n                                                \n                            \n                        Email*\n                            \n                        PhoneAddress*    \n                    \n                         \n                                        \n                                        Street Address\n                                    \n                                    \n                                    City\n                                 \n                                        \n                                        State / Province / Region\n                                      \n                                    \n                                    ZIP / Postal Code\n                                \n                                        AfghanistanAlbaniaAlgeriaAmerican SamoaAndorraAngolaAnguillaAntarcticaAntigua and BarbudaArgentinaArmeniaArubaAustraliaAustriaAzerbaijanBahamasBahrainBangladeshBarbadosBelarusBelgiumBelizeBeninBermudaBhutanBoliviaBonaire\, Sint Eustatius and SabaBosnia and HerzegovinaBotswanaBouvet IslandBrazilBritish Indian Ocean TerritoryBrunei DarussalamBulgariaBurkina FasoBurundiCabo VerdeCambodiaCameroonCanadaCayman IslandsCentral African RepublicChadChileChinaChristmas IslandCocos IslandsColombiaComorosCongoCongo\, Democratic Republic of theCook IslandsCosta RicaCroatiaCubaCuraçaoCyprusCzechiaCôte d'IvoireDenmarkDjiboutiDominicaDominican RepublicEcuadorEgyptEl SalvadorEquatorial GuineaEritreaEstoniaEswatiniEthiopiaFalkland IslandsFaroe IslandsFijiFinlandFranceFrench GuianaFrench PolynesiaFrench Southern TerritoriesGabonGambiaGeorgiaGermanyGhanaGibraltarGreeceGreenlandGrenadaGuadeloupeGuamGuatemalaGuernseyGuineaGuinea-BissauGuyanaHaitiHeard Island and McDonald IslandsHoly SeeHondurasHong KongHungaryIcelandIndiaIndonesiaIranIraqIrelandIsle of ManIsraelItalyJamaicaJapanJerseyJordanKazakhstanKenyaKiribatiKorea\, Democratic People's Republic ofKorea\, Republic ofKuwaitKyrgyzstanLao People's Democratic RepublicLatviaLebanonLesothoLiberiaLibyaLiechtensteinLithuaniaLuxembourgMacaoMadagascarMalawiMalaysiaMaldivesMaliMaltaMarshall IslandsMartiniqueMauritaniaMauritiusMayotteMexicoMicronesiaMoldovaMonacoMongoliaMontenegroMontserratMoroccoMozambiqueMyanmarNamibiaNauruNepalNetherlandsNew CaledoniaNew ZealandNicaraguaNigerNigeriaNiueNorfolk IslandNorth MacedoniaNorthern Mariana IslandsNorwayOmanPakistanPalauPalestine\, State ofPanamaPapua New GuineaParaguayPeruPhilippinesPitcairnPolandPortugalPuerto RicoQatarRomaniaRussian FederationRwandaRéunionSaint BarthélemySaint Helena\, Ascension and Tristan da CunhaSaint Kitts and NevisSaint LuciaSaint MartinSaint Pierre and MiquelonSaint Vincent and the GrenadinesSamoaSan MarinoSao Tome and PrincipeSaudi ArabiaSenegalSerbiaSeychellesSierra LeoneSingaporeSint MaartenSlovakiaSloveniaSolomon IslandsSomaliaSouth AfricaSouth Georgia and the South Sandwich IslandsSouth SudanSpainSri LankaSudanSurinameSvalbard and Jan MayenSwedenSwitzerlandSyria Arab RepublicTaiwanTajikistanTanzania\, the United Republic ofThailandTimor-LesteTogoTokelauTongaTrinidad and TobagoTunisiaTurkmenistanTurks and Caicos IslandsTuvaluTürkiyeUS Minor Outlying IslandsUgandaUkraineUnited Arab EmiratesUnited KingdomUnited StatesUruguayUzbekistanVanuatuVenezuelaViet NamVirgin Islands\, BritishVirgin Islands\, U.S.Wallis and FutunaWestern SaharaYemenZambiaZimbabweÅland Islands\n                                        Country\n                                    \n                    \n                EFT Training HistoryHave you taken an EFT Externship?*\n			\n					\n					Yes\n			\n			\n					\n					No\n			Have you completed Core Skills?*\n			\n					\n					Yes\n			\n			\n					\n					No\n			\n			\n					\n					Other\n			Registration TypeThis training is best suited for clinicians who have a working knowledge of EFT and Attachment Theory.Breaking Up but Still Connecting: An EFT Approach to Healthier Breakups Registration*\n			\n					\n					600- full fee\n			\n			\n					\n					517 - Member Rate\n			\n			\n					\n					575- early bird (before 4/10)\n			\n			\n					\n					550 CMH Clinician\, Equity\, Student\n			Total\n							\n						Credit Card*\n					\n						Cardholder Name\n					\n					\n						Card Details
URL:https://www.philadelphiacenterforeft.org/event/breaking-up-but-still-connecting-an-eft-approach-to-healthier-breakups/
LOCATION:The Retreat at St. Thomas\, 7020 Camp Hill Rd.\, Fort Washington\, PA\, 19034\, United States
CATEGORIES:Workshops
END:VEVENT
END:VCALENDAR