BEGIN:VCALENDAR
VERSION:2.0
PRODID:-//PCEFT - ECPv6.15.16.1//NONSGML v1.0//EN
CALSCALE:GREGORIAN
METHOD:PUBLISH
X-ORIGINAL-URL:https://www.philadelphiacenterforeft.org
X-WR-CALDESC:Events for PCEFT
REFRESH-INTERVAL;VALUE=DURATION:PT1H
X-Robots-Tag:noindex
X-PUBLISHED-TTL:PT1H
BEGIN:VTIMEZONE
TZID:America/New_York
BEGIN:DAYLIGHT
TZOFFSETFROM:-0500
TZOFFSETTO:-0400
TZNAME:EDT
DTSTART:20240310T070000
END:DAYLIGHT
BEGIN:STANDARD
TZOFFSETFROM:-0400
TZOFFSETTO:-0500
TZNAME:EST
DTSTART:20241103T060000
END:STANDARD
BEGIN:DAYLIGHT
TZOFFSETFROM:-0500
TZOFFSETTO:-0400
TZNAME:EDT
DTSTART:20250309T070000
END:DAYLIGHT
BEGIN:STANDARD
TZOFFSETFROM:-0400
TZOFFSETTO:-0500
TZNAME:EST
DTSTART:20251102T060000
END:STANDARD
BEGIN:DAYLIGHT
TZOFFSETFROM:-0500
TZOFFSETTO:-0400
TZNAME:EDT
DTSTART:20260308T070000
END:DAYLIGHT
BEGIN:STANDARD
TZOFFSETFROM:-0400
TZOFFSETTO:-0500
TZNAME:EST
DTSTART:20261101T060000
END:STANDARD
END:VTIMEZONE
BEGIN:VEVENT
DTSTART;TZID=America/New_York:20251017T120000
DTEND;TZID=America/New_York:20251017T133000
DTSTAMP:20260423T170933
CREATED:20250923T194754Z
LAST-MODIFIED:20251004T184742Z
UID:2773-1760702400-1760707800@www.philadelphiacenterforeft.org
SUMMARY:Adapting EFCT Interventions for Couples Entering Stage 2
DESCRIPTION:PCEFT MEMBERS – FREE\nPCEFT Guests – $20 \nTherapists learning EFT spend much of their time mastering skills needed for Stage 1. When their clients begin to de-escalate\, many therapists find they are uncertain about how their interventions will differ in Stage 2. They may even discover that some of the skills that facilitated de-escalation are hindering progress in Stage 2. \nIn this 90-minute Lunch & Learn\, Ruth Jampol\, Ph.D.\, Certified EFCT Supervisor\, and Jill Knerr\, LMFT will explain how the therapist’s focus\, pacing\, and interventions change in Stage 2. Through teaching\, video presentation\, and group participation\, participants will learn: \n\nhow to identify markers of readiness for Stage 2;\nhow therapist interventions change in Stage 2; and\nhow Stage 2 interventions allow a deeper exploration of each partner’s vulnerabilities\, attachment longings\, and fears.\n\nSorry. This form is no longer available.
URL:https://www.philadelphiacenterforeft.org/event/adapting-efct-interventions-for-couples-entering-stage-2/
LOCATION:Zoom
END:VEVENT
END:VCALENDAR