BEGIN:VCALENDAR
VERSION:2.0
PRODID:-//PCEFT - ECPv6.15.16.1//NONSGML v1.0//EN
CALSCALE:GREGORIAN
METHOD:PUBLISH
X-ORIGINAL-URL:https://www.philadelphiacenterforeft.org
X-WR-CALDESC:Events for PCEFT
REFRESH-INTERVAL;VALUE=DURATION:PT1H
X-Robots-Tag:noindex
X-PUBLISHED-TTL:PT1H
BEGIN:VTIMEZONE
TZID:America/New_York
BEGIN:DAYLIGHT
TZOFFSETFROM:-0500
TZOFFSETTO:-0400
TZNAME:EDT
DTSTART:20240310T070000
END:DAYLIGHT
BEGIN:STANDARD
TZOFFSETFROM:-0400
TZOFFSETTO:-0500
TZNAME:EST
DTSTART:20241103T060000
END:STANDARD
BEGIN:DAYLIGHT
TZOFFSETFROM:-0500
TZOFFSETTO:-0400
TZNAME:EDT
DTSTART:20250309T070000
END:DAYLIGHT
BEGIN:STANDARD
TZOFFSETFROM:-0400
TZOFFSETTO:-0500
TZNAME:EST
DTSTART:20251102T060000
END:STANDARD
BEGIN:DAYLIGHT
TZOFFSETFROM:-0500
TZOFFSETTO:-0400
TZNAME:EDT
DTSTART:20260308T070000
END:DAYLIGHT
BEGIN:STANDARD
TZOFFSETFROM:-0400
TZOFFSETTO:-0500
TZNAME:EST
DTSTART:20261101T060000
END:STANDARD
END:VTIMEZONE
BEGIN:VEVENT
DTSTART;TZID=America/New_York:20250627T120000
DTEND;TZID=America/New_York:20250627T130000
DTSTAMP:20260423T222740
CREATED:20250531T024705Z
LAST-MODIFIED:20250531T024705Z
UID:2752-1751025600-1751029200@www.philadelphiacenterforeft.org
SUMMARY:Working with Individuals in a Relational Context: An EFIT Perspective
DESCRIPTION:A central premise of Emotionally Focused Individual Therapy (EFIT) is that a key to profound personal change lies in corrective emotional experiences\, both within the therapeutic relationship and through clients’ internal shifts. \nIn this one-hour talk\, Dr. Ting Liu will share her experience as a therapist on how to provide a secure base where clients can explore deep\, vulnerable emotions like shame\, fear\, sadness\, and ambivalence. Through the secure therapeutic alliance\, clients are empowered to challenge old patterns\, process difficult experiences\, and ultimately reformulate more positive and integrated views of self and others\, fostering lasting change. \n  \n\nSorry. This form is no longer available.
URL:https://www.philadelphiacenterforeft.org/event/working-with-individuals-in-a-relational-context-an-efit-perspective/
LOCATION:Zoom
CATEGORIES:Lunch and Learn
END:VEVENT
END:VCALENDAR