BEGIN:VCALENDAR
VERSION:2.0
PRODID:-//PCEFT - ECPv6.15.16.1//NONSGML v1.0//EN
CALSCALE:GREGORIAN
METHOD:PUBLISH
X-ORIGINAL-URL:https://www.philadelphiacenterforeft.org
X-WR-CALDESC:Events for PCEFT
REFRESH-INTERVAL;VALUE=DURATION:PT1H
X-Robots-Tag:noindex
X-PUBLISHED-TTL:PT1H
BEGIN:VTIMEZONE
TZID:America/New_York
BEGIN:DAYLIGHT
TZOFFSETFROM:-0500
TZOFFSETTO:-0400
TZNAME:EDT
DTSTART:20240310T070000
END:DAYLIGHT
BEGIN:STANDARD
TZOFFSETFROM:-0400
TZOFFSETTO:-0500
TZNAME:EST
DTSTART:20241103T060000
END:STANDARD
BEGIN:DAYLIGHT
TZOFFSETFROM:-0500
TZOFFSETTO:-0400
TZNAME:EDT
DTSTART:20250309T070000
END:DAYLIGHT
BEGIN:STANDARD
TZOFFSETFROM:-0400
TZOFFSETTO:-0500
TZNAME:EST
DTSTART:20251102T060000
END:STANDARD
BEGIN:DAYLIGHT
TZOFFSETFROM:-0500
TZOFFSETTO:-0400
TZNAME:EDT
DTSTART:20260308T070000
END:DAYLIGHT
BEGIN:STANDARD
TZOFFSETFROM:-0400
TZOFFSETTO:-0500
TZNAME:EST
DTSTART:20261101T060000
END:STANDARD
END:VTIMEZONE
BEGIN:VEVENT
DTSTART;TZID=America/New_York:20250530T093000
DTEND;TZID=America/New_York:20250530T113000
DTSTAMP:20260423T234818
CREATED:20250508T205104Z
LAST-MODIFIED:20250508T205120Z
UID:2740-1748597400-1748604600@www.philadelphiacenterforeft.org
SUMMARY:Coding for emotion in EFT: How to find cues\, clues and clarity in content.
DESCRIPTION:PCEFT Members: FREE\nNon-Members/Guests: $30 \nThis training would benefit beginner therapists or those looking for a refresher if you find yourself getting lost in content. You’re not alone! We’ll practice how to focus and what to focus on when we interface with client content so we can stay with the emotion process. We’ll look at scripts or parts of a client’s tape to learn how to train our focus on move 1 to track present moment emotion experience. While staying attuned in the emotion channel with move 1\, we’ll use move 2 to identify and make explicit the elements of emotion so as to find cues\, clues and clarity in content.\n \nSorry. This form is no longer available.
URL:https://www.philadelphiacenterforeft.org/event/coding-for-emotion-in-eft-how-to-find-cues-clues-and-clarity-in-content/
LOCATION:Zoom
CATEGORIES:Lunch and Learn,Workshops
END:VEVENT
END:VCALENDAR