BEGIN:VCALENDAR
VERSION:2.0
PRODID:-//PCEFT - ECPv6.15.16.1//NONSGML v1.0//EN
CALSCALE:GREGORIAN
METHOD:PUBLISH
X-WR-CALNAME:PCEFT
X-ORIGINAL-URL:https://www.philadelphiacenterforeft.org
X-WR-CALDESC:Events for PCEFT
REFRESH-INTERVAL;VALUE=DURATION:PT1H
X-Robots-Tag:noindex
X-PUBLISHED-TTL:PT1H
BEGIN:VTIMEZONE
TZID:America/New_York
BEGIN:DAYLIGHT
TZOFFSETFROM:-0500
TZOFFSETTO:-0400
TZNAME:EDT
DTSTART:20240310T070000
END:DAYLIGHT
BEGIN:STANDARD
TZOFFSETFROM:-0400
TZOFFSETTO:-0500
TZNAME:EST
DTSTART:20241103T060000
END:STANDARD
BEGIN:DAYLIGHT
TZOFFSETFROM:-0500
TZOFFSETTO:-0400
TZNAME:EDT
DTSTART:20250309T070000
END:DAYLIGHT
BEGIN:STANDARD
TZOFFSETFROM:-0400
TZOFFSETTO:-0500
TZNAME:EST
DTSTART:20251102T060000
END:STANDARD
BEGIN:DAYLIGHT
TZOFFSETFROM:-0500
TZOFFSETTO:-0400
TZNAME:EDT
DTSTART:20260308T070000
END:DAYLIGHT
BEGIN:STANDARD
TZOFFSETFROM:-0400
TZOFFSETTO:-0500
TZNAME:EST
DTSTART:20261101T060000
END:STANDARD
END:VTIMEZONE
BEGIN:VEVENT
DTSTART;TZID=America/New_York:20250228T120000
DTEND;TZID=America/New_York:20250228T140000
DTSTAMP:20260424T043405
CREATED:20241127T154620Z
LAST-MODIFIED:20250128T210549Z
UID:2688-1740744000-1740751200@www.philadelphiacenterforeft.org
SUMMARY:Let’s Talk about Sex!
DESCRIPTION:Just as the relational cycle is a powerful tool for understanding couples relationship dynamics and creating intimacy\, understanding a couple’s sexual cycle can create powerful healing for our couples. While most of us are not AASECT certified sex therapists\, we can develop confidence in addressing some common sexual concerns. Come talk with us about how we’ve grown in this area and share your own experience.  A few topics that will be discussed are: \n\nAssessment questions- how do we assess our couple’s sexual relationship quality as it relates to pleasure\, intimacy\, trust\, connection?\nHow female sexuality is often misunderstood causing unnecessary hurt and rejection\nSpontaneous sexual desire vs. responsive and physical arousal \nA few simple ways to address common sexual difficulties\nHow affairs impact sex with the original couple\nMapping the sexual cycle- Who pursues? Who withdraws?  Who initiates? Where do they get stuck?\n\nCost: \nFREE for PCEFT members; $30 for Non-Members \nLocation: \nOnline via Zoom \nRegistration\nSorry. This form is no longer available.
URL:https://www.philadelphiacenterforeft.org/event/lets-talk-about-sex/
CATEGORIES:Lunch and Learn
END:VEVENT
END:VCALENDAR